BEGIN:VCALENDAR
VERSION:2.0
PRODID:-//Date iCal//NONSGML kigkonsult.se iCalcreator 2.20.2//
METHOD:PUBLISH
BEGIN:VEVENT
UID:calendar.178686.field_event_time@edit.acquia.catnmsplan.com
DTSTAMP:20201019T132758Z
DESCRIPTION:\n\n\n\nStarting October 19, firms can submit Forms U5 and BR Termination filings with a termination date of December 31. Submitting these filings allows firms to request termination of registrations in advance.  Registrations terminated through these post-dated filings before Preliminary Statements are generated will not be included for renewals.\n\nLearn more: https://www.finra.org/renewal\nThis information is provided as a convenience to firms and may not be a complete listing of all of a firm'sregulatory and compliance filing requirements. Firms must do their own due diligence to ensure that they comply with all of their regulatory and filing requirements and their reliance on this report does not create a safe harbor from a firm's regulatory responsibilities.
DTSTART;VALUE=DATE:20201019
DTEND;VALUE=DATE:20201020
SUMMARY:Begin Preparing Post-Dated Forms U5 and BR Closing/Withdrawal Filings
URL;TYPE=URI:https://www.finra.org/node/178686
END:VEVENT
END:VCALENDAR