BEGIN:VCALENDAR
VERSION:2.0
PRODID:-//Date iCal//NONSGML kigkonsult.se iCalcreator 2.20.2//
METHOD:PUBLISH
BEGIN:VEVENT
UID:calendar.178676.field_event_time@edit.acquia.catnmsplan.com
DTSTAMP:20201019T132839Z
DESCRIPTION:Starting November 1, firms can initiate Forms BDW and ADV-W filings with a termination date of December 31. Submitting these filings allows firms to request termination of registrations in advance.  Registrations terminated through these post-dated filings before Preliminary Statements are generated will not be included for renewals.\n\nLearn more: https://www.finra.org/renewal\n\nThis information is provided as a convenience to firms and may not be a complete listing of all of a firm'sregulatory and compliance filing requirements. Firms must do their own due diligence to ensure that they comply with all of their regulatory and filing requirements and their reliance on this report does not create a safe harbor from a firm's regulatory responsibilities.
DTSTART;VALUE=DATE:20201101
DTEND;VALUE=DATE:20201102
SUMMARY:Begin Preparing Post-Dated Forms BDW and ADV-W
URL;TYPE=URI:https://www.finra.org/node/178676
END:VEVENT
END:VCALENDAR	