BEGIN:VCALENDAR
VERSION:2.0
PRODID:-//Date iCal//NONSGML kigkonsult.se iCalcreator 2.20.2//
METHOD:PUBLISH
BEGIN:VEVENT
UID:calendar.178691.field_event_time@edit.acquia.catnmsplan.com
DTSTAMP:20201019T132852Z
DESCRIPTION:Preliminary Statements are available in E-Bill beginning November 16. Many firms find it convenient to submit or schedule their payment while logged in to E-Bill to retrieve the statement. Preliminary Statement reports are also available in CRD/IARD. Be sure to save or print these reports before Final Statements are generated as they cannot be recreated once Final Statement is created.\nLearn more: https://www.finra.org/renewal\nThis information is provided as a convenience to firms and may not be a complete listing of all of a firm'sregulatory and compliance filing requirements. Firms must do their own due diligence to ensure that they comply with all of their regulatory and filing requirements and their reliance on this report does not create a safe harbor from a firm's regulatory responsibilities.
DTSTART;VALUE=DATE:20201116
DTEND;VALUE=DATE:20201117
SUMMARY:Retrieve (and Schedule Payment for) the Preliminary Statement in E-Bill
URL;TYPE=URI:https://www.finra.org/node/178691
END:VEVENT
END:VCALENDAR