BEGIN:VCALENDAR
VERSION:2.0
PRODID:-//Date iCal//NONSGML kigkonsult.se iCalcreator 2.20.2//
METHOD:PUBLISH
BEGIN:VEVENT
UID:calendar.178696.field_event_time@edit.acquia.catnmsplan.com
DTSTAMP:20201019T132908Z
DESCRIPTION:FINRA-registered firms should ensure payment is received and posted to your account by this day. Money can be deposited directly into your firm’s Renewal Account, or firms may rely on FINRA to transfer the money from your firm's Flex-Funding Account that begins December 14. In order to take advantage of this transfer, the complete amount due for renewals must be available in your firm’s Flex-Funding account. See the Renewal Payment Options page for more information.\n\n\n\nFirms must pay the entire amount assessed on the Preliminary Statement. Failure to remit full payment of their Preliminary Statement to FINRA by December 14, 2020, may cause FINRA-registered firms to be subject to a late fee.\nLearn more: https://www.finra.org/renewal\nThis information is provided as a convenience to firms and may not be a complete listing of all of a firm's regulatory and compliance filing requirements. Firms must do their own due diligence to ensure that they comply with all of their regulatory and filing requirements and their reliance on this report does not create a safe harbor from a firm's regulatory responsibilities.
DTSTART;VALUE=DATE:20201214
DTEND;VALUE=DATE:20201215
SUMMARY:Ensure Full Payment is Available in Renewal or Flex-Funding Account by This Date
URL;TYPE=URI:https://www.finra.org/node/178696
END:VEVENT
END:VCALENDAR