BEGIN:VCALENDAR
VERSION:2.0
PRODID:-//Date iCal//NONSGML kigkonsult.se iCalcreator 2.20.2//
METHOD:PUBLISH
BEGIN:VEVENT
UID:calendar.178701.field_event_time@edit.acquia.catnmsplan.com
DTSTAMP:20201019T132928Z
DESCRIPTION:The CRD/IARD system shuts down for the year at 6 pm on December 26. Firms should ensure that they perform the following activities before the shutdown occurs:\n\n\n\n\n\n	Submit registration filings. This includes terminating any registrations that firms do not want to renew for 2021.\n\n	Finalize any E-Bill renewal payments or transactions. Firms that missed the payment deadline must ensure that renewal funds are posted by this date. At 6:00 pm ET, any unpaid Preliminary Statement will result in jurisdictions automatically terminating registrations for failing to renew. In addition, failing to renew will result in the inability to conduct business in these jurisdictions effective January 1, 2021.\n\n	Print and/or save renewal reports in CRD/IARD. On January 2, Preliminary Statement reports will be replaced with Final Statement reports\n\n	Several CRD/IARD system outages occur during the Renewal Program. See the CRD/IARD Availability page for details.\n\n\nLearn more: https://www.finra.org/renewal\nThis information is provided as a convenience to firms and may not be a complete listing of all of a firm's regulatory and compliance filing requirements. Firms must do their own due diligence to ensure that they comply with all of their regulatory and filing requirements and their reliance on this report does not create a safe harbor from a firm's regulatory responsibilities.
DTSTART;VALUE=DATE:20201226
DTEND;VALUE=DATE:20201227
SUMMARY:Submit Filings and Payments Before the 2020 Deadline at 6 pm Eastern Time
URL;TYPE=URI:https://www.finra.org/node/178701
END:VEVENT
END:VCALENDAR