BEGIN:VCALENDAR
VERSION:2.0
PRODID:-//Date iCal//NONSGML kigkonsult.se iCalcreator 2.20.2//
METHOD:PUBLISH
BEGIN:VEVENT
UID:calendar.178706.field_event_time@edit.acquia.catnmsplan.com
DTSTAMP:20201019T132944Z
DESCRIPTION:Final Statements are available in E-Bill on January 2. \n\n\n\nPreliminary Statement reports are replaced with Final Statement reports in CRD/IARD.\n\n\n\nMany firms find it convenient to schedule any required payment while logged in to E-Bill to retrieve the statement. If additional payment is not required, the Final Statement will reflect "Paid in Full." Any overpayment FINRA received from a firm is now available in the firm’s Flex-Funding account.\nLearn more: https://www.finra.org/renewal\nThis information is provided as a convenience to firms and may not be a complete listing of all of a firm'sregulatory and compliance filing requirements. Firms must do their own due diligence to ensure that they comply with all of their regulatory and filing requirements and their reliance on this report does not create a safe harbor from a firm's regulatory responsibilities.
DTSTART;VALUE=DATE:20210102
DTEND;VALUE=DATE:20210103
SUMMARY:Retrieve and Schedule Payment for the Final Statement in E-Bill
URL;TYPE=URI:https://www.finra.org/node/178706
END:VEVENT
END:VCALENDAR