BEGIN:VCALENDAR
VERSION:2.0
PRODID:-//Date iCal//NONSGML kigkonsult.se iCalcreator 2.20.2//
METHOD:PUBLISH
BEGIN:VEVENT
UID:calendar.178711.field_event_time@edit.acquia.catnmsplan.com
DTSTAMP:20201019T132954Z
DESCRIPTION:\n\n	Firms must submit any amount owed on the Final Statement to FINRA by this day. Money can be deposited directly into the Renewal Account, or firms can rely on FINRA to transfer funds from the firm's Flex-Funding Account beginning January 22.  In order to take advantage of this transfer, the complete amount due for renewals must be available in your firm’s Flex-Funding account. See the Renewal Payment Options page for more information.\n\n	January 22 is also the deadline for firms to report in writing to FINRA any discrepancies found on the Final Statement. FINRA must receive this by January 22, 2021.\n\n\nLearn more: https://www.finra.org/renewal\nThis information is provided as a convenience to firms and may not be a complete listing of all of a firm'sregulatory and compliance filing requirements. Firms must do their own due diligence to ensure that they comply with all of their regulatory and filing requirements and their reliance on this report does not create a safe harbor from a firm's regulatory responsibilities.
DTSTART;VALUE=DATE:20210122
DTEND;VALUE=DATE:20210123
SUMMARY:Ensure Discrepancies are Reported or Balance is Paid
URL;TYPE=URI:https://www.finra.org/node/178711
END:VEVENT
END:VCALENDAR